BEGIN:VCALENDAR
VERSION:2.0
PRODID:-//hacksw/handcal//NONSGML v1.0//EN
METHOD:PUBLISH
CALSCALE:GREGORIAN
BEGIN:VEVENT
UID:69eaf4bf8bc91
DTSTART:20260704T180000Z
DTSTAMP:20260421T100647Z
DTEND:20260704T200000Z
LOCATION:Hochschule für Musik und Darstellende Kunst (HfMDK)\, Groß
 er Saal\, Frankfurt am Main (Deutschland)
DESCRIPTION:Ein Projekt der Zender-Stiftung in Zusammenarbeit mit dem
  Institut für zeitgenössische Musik IzM der HfMDK     \n     \nHans
  Zender: 33 Veränderungen über 33 Veränderungen - Eine komponierte
  Interpretation von Beethovens Diabelli-Variationen (2011)     \nHans
  Zender: Issei no kyo\, Gesang vom einen Ton - für Sopran\, obligate
  Piccoloflöte und Ensemble (2009)     \nIEMA-Ensemble 2025/26\, Stud
 ierende der HfMDK Frankfurt\, Michael Wendeberg (Dirigent)     \nHome
 page: https://www.ensemble-modern.com/de/kalender/2026-07-04/9701#k-9
 701
URL;VALUE=URI:
SUMMARY:IEMA-Ensemble 2025/26 zu Gast beim Zender Projekt 2026
END:VEVENT
END:VCALENDAR
